BEGIN:VCALENDAR
VERSION:2.0
PRODID:-//Squarespace Inc/Squarespace 6//v6//EN
BEGIN:VEVENT
UID:5b4fba801ae6cfa99e5100d7@squarespace.com
DTSTAMP:20180722T221843Z
DTSTART:20180724T021500Z
DTEND:20180724T091500Z
SUMMARY:Santa Cruz & Juliana MY19 Road Show - Wellington
GEO:-41.297175;174.782924
LOCATION:The Hop Garden\, 13 Pirie Street\, Wellington\, Wellington\, 6011\
 , New Zealand
END:VEVENT
END:VCALENDAR
