BEGIN:VCALENDAR
VERSION:2.0
PRODID:-//Squarespace Inc/Squarespace 6//v6//EN
BEGIN:VEVENT
UID:5b5502c3758d4613de056be3@squarespace.com
DTSTAMP:20180722T225745Z
DTSTART:20180727T021500Z
DTEND:20180727T071500Z
SUMMARY:Santa Cruz & Juliana MY19 Road Show - Auckland
GEO:-36.873365;174.737338
LOCATION:Urbanaut Brwing Co\, 597 New North Road (entrance off Western Srin
 gs Road)\, Auckland\, Auckland\, 1021\, New Zealand
END:VEVENT
END:VCALENDAR
