BEGIN:VCALENDAR
VERSION:2.0
PRODID:-//Squarespace Inc/Squarespace 6//v6//EN
BEGIN:VEVENT
UID:5beb92d7758d464050eb87bb@squarespace.com
DTSTAMP:20181120T042758Z
DTSTART:20190307T181500Z
DTEND:20190310T051500Z
SUMMARY:Santa Cruz NZ Enduro 2019
END:VEVENT
END:VCALENDAR
