BEGIN:VCALENDAR
VERSION:2.0
PRODID:-//Squarespace Inc/Squarespace 6//v6//EN
BEGIN:VEVENT
UID:5beb8e34cd83669970c04f2f@squarespace.com
DTSTAMP:20181114T030342Z
DTSTART:20190418T191500Z
DTEND:20190422T031500Z
SUMMARY:Nomadic Week-end Away - South
GEO:-43.179029;171.691847
LOCATION:Mount Cheeseman Ski Field Road\, Craigieburn Forest Park\, Canterb
 ury\, 7580\, New Zealand
END:VEVENT
END:VCALENDAR
