BEGIN:VCALENDAR
VERSION:2.0
PRODID:-//Squarespace Inc/Squarespace 6//v6//EN
BEGIN:VEVENT
UID:5beb8b964ae237ac1f810fb4@squarespace.com
DTSTAMP:20181114T025340Z
DTSTART:20190125T181500Z
DTEND:20190128T021500Z
SUMMARY:Nomadic Week-end Away - North
GEO:-36.987851;175.200114
LOCATION:440 Mountain Bike Park\, 521 Kawakawa-Orere Road\, Auckland\, Auck
 land\, 2585\, New Zealand
END:VEVENT
END:VCALENDAR
