BEGIN:VCALENDAR
VERSION:2.0
PRODID:-//Squarespace Inc/Squarespace 6//v6//EN
BEGIN:VEVENT
UID:5a98a36471c10b87d668a5a9@squarespace.com
DTSTAMP:20180302T011716Z
DTSTART:20180329T211500Z
DTEND:20180402T011500Z
SUMMARY:Nomadic Weekend Away 2018
END:VEVENT
END:VCALENDAR
