BEGIN:VCALENDAR
VERSION:2.0
PRODID:-//Squarespace Inc/Squarespace 6//v6//EN
BEGIN:VEVENT
UID:5b4d1cae6d2a7346d7464974@squarespace.com
DTSTAMP:20180716T225141Z
DTSTART:20180720T031500Z
DTEND:20180720T091500Z
SUMMARY:Santa Cruz / Juliana MY19 Preview
GEO:-41.271715;173.282795
LOCATION:Craft Beer Depot - Nelson\, 70 Achilles Avenue\,\, Wakatu Square C
 ar Park\, Nelson 7010\, New Zealand
END:VEVENT
END:VCALENDAR
