BEGIN:VCALENDAR
VERSION:2.0
PRODID:-//Squarespace Inc/Squarespace 6//v6//EN
BEGIN:VEVENT
UID:5b7ca263cd8366974de3bf83@squarespace.com
DTSTAMP:20191217T002528Z
DTSTART:20181109T181500Z
DTEND:20181110T071500Z
SUMMARY:Mammoth Enduro 2018
END:VEVENT
END:VCALENDAR
