BEGIN:VCALENDAR
VERSION:2.0
PRODID:-//Squarespace Inc/Squarespace 6//v6//EN
BEGIN:VEVENT
UID:57f70bf6bebafb13aa7c49ab@squarespace.com
DTSTAMP:20161221T032108Z
DTSTART:20170210T181500Z
DTEND:20170212T021500Z
SUMMARY:Juliana and Friends Adventure Weekend
END:VEVENT
END:VCALENDAR
