BEGIN:VCALENDAR
VERSION:2.0
PRODID:-//Squarespace Inc/Squarespace 6//v6//EN
BEGIN:VEVENT
UID:5e2dfb6c3ea0ef64f0969fc2@squarespace.com
DTSTAMP:20200325T192956Z
DTSTART:20200328T181500Z
DTEND:20200329T021500Z
SUMMARY:Juliana and Friends Rameka Day Out - CANCELLED
GEO:-40.94298;172.891799
LOCATION:Canaan Downs\, Takaka Hill\, Nelson\, New Zealand
END:VEVENT
END:VCALENDAR
