BEGIN:VCALENDAR
VERSION:2.0
PRODID:-//Squarespace Inc/Squarespace 6//v6//EN
BEGIN:VEVENT
UID:5b67c25faa4a99f211d9f0f8@squarespace.com
DTSTAMP:20180806T042727Z
DTSTART:20180815T021500Z
DTEND:20180815T071500Z
SUMMARY:Santa Cruz & Juliana MY19 Road Show - Christchurc
GEO:-43.545034;172.645991
LOCATION:Scotty Browns\, 206 Wordsworth Street\, Christchurch\, Canterbury\
 , 8023\, New Zealand
END:VEVENT
END:VCALENDAR
