BEGIN:VCALENDAR
VERSION:2.0
PRODID:-//Squarespace Inc/Squarespace 6//v6//EN
BEGIN:VEVENT
UID:5ed53e6ae18f3d3682b6a216@squarespace.com
DTSTAMP:20200601T204835Z
DTSTART:20200619T211500Z
DTEND:20200620T031500Z
SUMMARY:Heckler Demo Day - With Gravity Nelson
GEO:38.79652;-76.883626
LOCATION:Andrews Field\, Codgers MTB Park\, The Brook\, Nelson
END:VEVENT
END:VCALENDAR
