BEGIN:VCALENDAR
VERSION:2.0
PRODID:-//Squarespace Inc/Squarespace 6//v6//EN
BEGIN:VEVENT
UID:5ecb0653e8296a24e1565ee4@squarespace.com
DTSTAMP:20200601T204925Z
DTSTART:20200613T201500Z
DTEND:20200613T234500Z
SUMMARY:Santa Cruz Dig Day - Kaiteriteri MTB Park
GEO:-41.043197;173.012437
LOCATION:Kaiteriteri MTB Park\, Kaiteriteri\, Tasman\, New Zealand
END:VEVENT
END:VCALENDAR
