BEGIN:VCALENDAR
VERSION:2.0
PRODID:-//Squarespace Inc/Squarespace 6//v6//EN
BEGIN:VEVENT
UID:5df690f503e32e5334a4e132@squarespace.com
DTSTAMP:20191218T042210Z
DTSTART:20200313T181500Z
DTEND:20200314T021500Z
SUMMARY:Mammoth Enduro 2020
GEO:-41.254547;173.301485
LOCATION:Nelson\, 7010\, New Zealand
END:VEVENT
END:VCALENDAR
