BEGIN:VCALENDAR
VERSION:2.0
PRODID:-//Squarespace Inc/Squarespace 6//v6//EN
BEGIN:VEVENT
UID:5e177768dc9fd475fc01e267@squarespace.com
DTSTAMP:20200112T171520Z
DTSTART:20200213T191500Z
DTEND:20200216T021500Z
SUMMARY:Nomadic Weekend Away North
GEO:-36.987851;175.200114
LOCATION:440 Mountainbike Park\, 521 Kawakawa-Orere Road\, Auckland\, New Z
 ealand
END:VEVENT
END:VCALENDAR
