BEGIN:VCALENDAR
VERSION:2.0
PRODID:-//Squarespace Inc/Squarespace 6//v6//EN
BEGIN:VEVENT
UID:5df69e5a460f77349dc3030f@squarespace.com
DTSTAMP:20201031T212143Z
DTSTART:20200131T181500Z
DTEND:20200202T031500Z
SUMMARY:DODZY Memorial Enduro
GEO:-36.987851;175.200114
LOCATION:440 Mountain Bike Park\, 521 Kawakawa-Orere Road\, Auckland\, Auck
 land\, 2585\, New Zealand
END:VEVENT
END:VCALENDAR
