BEGIN:VCALENDAR
VERSION:2.0
PRODID:-//Squarespace Inc/Squarespace 6//v6//EN
BEGIN:VEVENT
UID:5f9dd567a48e4130feeac80e@squarespace.com
DTSTAMP:20201031T212437Z
DTSTART:20201106T181500Z
DTEND:20201108T031500Z
SUMMARY:DODZY Memorial Enduro
GEO:-36.987851;175.200114
LOCATION:440 Mountain Bike Park\, 521 Kawakawa-Orere Road\, Auckland\, Auck
 land\, 2585\, New Zealand
END:VEVENT
END:VCALENDAR
