BEGIN:VCALENDAR
VERSION:2.0
PRODID:-//Squarespace Inc/Squarespace 6//v6//EN
BEGIN:VEVENT
UID:5fb4ca7349f13c3a24374bc9@squarespace.com
DTSTAMP:20201118T073207Z
DTSTART:20201204T184500Z
DTEND:20201205T001500Z
SUMMARY:Shred like a Girl Enduro
GEO:-41.291008;173.291726
LOCATION:Codgers Recreation Hub\, The Brook\, Nelson
END:VEVENT
END:VCALENDAR
