BEGIN:VCALENDAR
VERSION:2.0
PRODID:-//Squarespace Inc/Squarespace 6//v6//EN
BEGIN:VEVENT
UID:5e1794f25cfda03b161d52d7@squarespace.com
DTSTAMP:20200626T210629Z
DTSTART:20201023T181500Z
DTEND:20201026T021500Z
SUMMARY:Nomadic Weekend Away South
GEO:-43.179088;171.691874
LOCATION:Mount Cheeseman Ski Field Road\, Craigieburn Forest Park\, New Zea
 land
END:VEVENT
END:VCALENDAR
