BEGIN:VCALENDAR
VERSION:2.0
PRODID:-//Squarespace Inc/Squarespace 6//v6//EN
BEGIN:VEVENT
UID:5c802483e5e5f0179782054d@squarespace.com
DTSTAMP:20190314T215113Z
DTSTART:20190319T024500Z
DTEND:20190319T041500Z
SUMMARY:Ride Out
GEO:-38.156727;176.292938
LOCATION:Bike Culture\, 1133 Pukuatua Street\, Rotorua\, Bay Of Plenty\, 30
 10\, New Zealand
END:VEVENT
END:VCALENDAR
