BEGIN:VCALENDAR
VERSION:2.0
PRODID:-//Squarespace Inc/Squarespace 6//v6//EN
BEGIN:VEVENT
UID:5c50a8d70ebbe85f9364fddd@squarespace.com
DTSTAMP:20190314T032643Z
DTSTART:20190216T191500Z
DTEND:20190217T041500Z
SUMMARY:Nydia Rideout with Robin Wallner &amp\; Ibis NZ
GEO:-41.17387;173.776768
LOCATION:Nydia Bay Track
END:VEVENT
END:VCALENDAR
