BEGIN:VCALENDAR
VERSION:2.0
PRODID:-//Squarespace Inc/Squarespace 6//v6//EN
BEGIN:VEVENT
UID:5c89c9f324a694d499fb7beb@squarespace.com
DTSTAMP:20190411T034134Z
DTSTART:20190320T171500Z
DTEND:20190320T211500Z
SUMMARY:Rainbow Mountain with Robin Wallner
GEO:-41.17387;173.776768
LOCATION:Rainbow Mountain\, Rotorua
END:VEVENT
END:VCALENDAR
