BEGIN:VCALENDAR
VERSION:2.0
PRODID:-//Squarespace Inc/Squarespace 6//v6//EN
BEGIN:VEVENT
UID:5ae78700575d1f3c3324a8b8@squarespace.com
DTSTAMP:20180430T211832Z
DTSTART:20180511T074500Z
DTEND:20180511T084500Z
SUMMARY:Gamble - Wellington Premiere
GEO:-41.305858;174.763585
LOCATION:Penthouse Cinema and Cafe\, \, Wellington 205 Ohiro Road\, Brookly
 n\, Wellington\, New Zealand 6021\, Wellington
END:VEVENT
END:VCALENDAR
