BEGIN:VCALENDAR
VERSION:2.0
PRODID:-//Squarespace Inc/Squarespace 6//v6//EN
BEGIN:VEVENT
UID:5a9efd70ec212d6b20505132@squarespace.com
DTSTAMP:20180319T014016Z
DTSTART:20180323T183000Z
DTEND:20180323T204500Z
SUMMARY:Juliana\, Revolve and Friends Rideout - Rotorua
END:VEVENT
END:VCALENDAR
