BEGIN:VCALENDAR
VERSION:2.0
PRODID:-//Squarespace Inc/Squarespace 6//v6//EN
BEGIN:VEVENT
UID:5aa4404824a694a840a773af@squarespace.com
DTSTAMP:20180313T072503Z
DTSTART:20180322T021500Z
DTEND:20180322T051500Z
SUMMARY:Hyperformance Hardware Rideout
GEO:-38.175423;176.252246
LOCATION:Waipa State Mill Rd\, Rotorua\, Bay Of Plenty\, 3074\, New Zealand
END:VEVENT
END:VCALENDAR
