BEGIN:VCALENDAR
VERSION:2.0
PRODID:-//Squarespace Inc/Squarespace 6//v6//EN
BEGIN:VEVENT
UID:5becef7c8a922d4326fcc49a@squarespace.com
DTSTAMP:20181115T040626Z
DTSTART:20181122T011500Z
DTEND:20181122T051500Z
SUMMARY:Juliana Demo Day - Nelson
END:VEVENT
END:VCALENDAR
