BEGIN:VCALENDAR
VERSION:2.0
PRODID:-//Squarespace Inc/Squarespace 6//v6//EN
BEGIN:VEVENT
UID:5a9f2157085229fcc99975f1@squarespace.com
DTSTAMP:20180306T231649Z
DTSTART:20170922T211500Z
DTEND:20170923T001500Z
SUMMARY:Copy of Trail Fund\, Juliana and Friends Rideout
GEO:-41.270632;173.283965
LOCATION:Nelson
END:VEVENT
END:VCALENDAR
