BEGIN:VCALENDAR
VERSION:2.0
PRODID:-//Squarespace Inc/Squarespace 6//v6//EN
BEGIN:VEVENT
UID:599b7341e6f2e10a5f71ceab@squarespace.com
DTSTAMP:20170829T225722Z
DTSTART:20170928T230000Z
DTEND:20171001T000000Z
SUMMARY:SPRING CHALLENGE - SOUTH ISLAND
GEO:34.35148;-86.000808
LOCATION:geraldine\, new zealand
END:VEVENT
END:VCALENDAR
