BEGIN:VCALENDAR
VERSION:2.0
PRODID:-//Squarespace Inc/Squarespace 6//v6//EN
BEGIN:VEVENT
UID:591b97316a49631e8640a504@squarespace.com
DTSTAMP:20170615T034747Z
DTSTART:20170729T001500Z
DTEND:20170729T031500Z
SUMMARY:Juliana & Friends Rideout - Wellington
END:VEVENT
END:VCALENDAR
