BEGIN:VCALENDAR
VERSION:2.0
PRODID:-//Squarespace Inc/Squarespace 6//v6//EN
BEGIN:VEVENT
UID:591ba7af9f7456ad1a6383fd@squarespace.com
DTSTAMP:20170614T040403Z
DTSTART:20170727T044500Z
DTEND:20170727T061500Z
SUMMARY:Womans' Bike Tech Night2
GEO:-41.295473;174.766818
LOCATION:Dirt Merchants\, 93 Aro Street\, Wellington\, Wellington\, 6021\, 
 New Zealand
END:VEVENT
END:VCALENDAR
