BEGIN:VCALENDAR
VERSION:2.0
PRODID:-//Squarespace Inc/Squarespace 6//v6//EN
BEGIN:VEVENT
UID:591b77acff7c504abf4d301a@squarespace.com
DTSTAMP:20170614T040326Z
DTSTART:20170726T044500Z
DTEND:20170726T061500Z
SUMMARY:Womans' Bike Tech Night
GEO:-41.295473;174.766818
LOCATION:Dirt Merchants\, 93 Aro Street\, Wellington\, Wellington\, 6021\, 
 New Zealand
END:VEVENT
END:VCALENDAR
