BEGIN:VCALENDAR
VERSION:2.0
PRODID:-//Squarespace Inc/Squarespace 6//v6//EN
BEGIN:VEVENT
UID:59093a50f7e0ab2f59bf204c@squarespace.com
DTSTAMP:20170503T213920Z
DTSTART:20170506T211500Z
DTEND:20170507T021500Z
SUMMARY:Shred Like a Girl - Enduro Edition
END:VEVENT
END:VCALENDAR
