BEGIN:VCALENDAR
VERSION:2.0
PRODID:-//Squarespace Inc/Squarespace 6//v6//EN
BEGIN:VEVENT
UID:5a98a73d0d9297ca6ea832a5@squarespace.com
DTSTAMP:20180302T021658Z
DTSTART:20180308T181500Z
DTEND:20180311T051500Z
SUMMARY:NZ Enduro 2018
END:VEVENT
END:VCALENDAR
