BEGIN:VCALENDAR
VERSION:2.0
PRODID:-//Squarespace Inc/Squarespace 6//v6//EN
BEGIN:VEVENT
UID:599b70e63e00be721db4f63f@squarespace.com
DTSTAMP:20180813T231224Z
DTSTART:20171110T181500Z
DTEND:20171112T031500Z
SUMMARY:Mammoth Enduro 2017
GEO:-41.287273;173.329878
LOCATION:Maitai Golf Course\, Maitai Valley Road\, Nelson\, New Zealand
END:VEVENT
END:VCALENDAR
