BEGIN:VCALENDAR
VERSION:2.0
PRODID:-//Squarespace Inc/Squarespace 6//v6//EN
BEGIN:VEVENT
UID:599b75e759cc6887d66e2815@squarespace.com
DTSTAMP:20170829T225810Z
DTSTART:20171012T233000Z
DTEND:20171014T230000Z
SUMMARY:SPRING CHALLENGE - NORTH ISLAND
GEO:-36.994102;174.87266
LOCATION:Vector Wero Whitewater Park\, Manukau\, New Zealand
END:VEVENT
END:VCALENDAR
