BEGIN:VCALENDAR
VERSION:2.0
PRODID:-//Squarespace Inc/Squarespace 6//v6//EN
BEGIN:VEVENT
UID:59dc014c64b05fea9d3d5dc7@squarespace.com
DTSTAMP:20171009T231725Z
DTSTART:20171103T191500Z
DTEND:20171104T011500Z
SUMMARY:DEMO DAY - WELLINGTON
GEO:-41.295356;174.766981
LOCATION:Polhill Reserve\, Aro Valley\, Wellington 6021\, New Zealand
END:VEVENT
END:VCALENDAR
