BEGIN:VCALENDAR
VERSION:2.0
PRODID:-//Squarespace Inc/Squarespace 6//v6//EN
BEGIN:VEVENT
UID:57bb8082be659453c7329cf9@squarespace.com
DTSTAMP:20160822T231631Z
DTSTART:20160815T164500Z
DTEND:20160815T181500Z
SUMMARY:Womans Basic Bike Maintenance
GEO:-41.27731;173.280738
LOCATION:Torpedo7\, Rutherford Street\, Nelson\, Nelson\, 7010\, New Zealan
 d
END:VEVENT
END:VCALENDAR
