BEGIN:VCALENDAR
VERSION:2.0
PRODID:-//Squarespace Inc/Squarespace 6//v6//EN
BEGIN:VEVENT
UID:59c1d88480bd5ee3a4672a43@squarespace.com
DTSTAMP:20180822T034008Z
DTSTART:20180209T181500Z
DTEND:20180210T014500Z
SUMMARY:Santa Cruz Coppermine
GEO:-41.270632;173.283965
LOCATION:Nelson
END:VEVENT
END:VCALENDAR
