BEGIN:VCALENDAR
VERSION:2.0
PRODID:-//Squarespace Inc/Squarespace 6//v6//EN
BEGIN:VEVENT
UID:5b7cdb18352f53a8a9b0010a@squarespace.com
DTSTAMP:20190221T214110Z
DTSTART:20190405T181500Z
DTEND:20190406T014500Z
SUMMARY:The Coppermine - NEW DATE
GEO:-41.270632;173.283965
LOCATION:Nelson
END:VEVENT
END:VCALENDAR
