BEGIN:VCALENDAR
VERSION:2.0
PRODID:-//Squarespace Inc/Squarespace 6//v6//EN
BEGIN:VEVENT
UID:58b75181bebafb0d2e2a5798@squarespace.com
DTSTAMP:20170307T210757Z
DTSTART:20170330T181500Z
DTEND:20170330T211500Z
SUMMARY:Juliana and Friends RIDEOUT - Rotorua
GEO:-38.148395;176.277892
LOCATION:Sequoia Eatery Cafe\, 10 Tarawera Road\, Lynmore\, Rotorua
END:VEVENT
END:VCALENDAR
