BEGIN:VCALENDAR
VERSION:2.0
PRODID:-//Squarespace Inc/Squarespace 6//v6//EN
BEGIN:VEVENT
UID:58bcec8a725e258dbecad0fd@squarespace.com
DTSTAMP:20170323T194006Z
DTSTART:20170328T021500Z
DTEND:20170402T034500Z
SUMMARY:Santa Cruz & Juliana Crankworx Rideout & Expo Schedule - Rotorua
GEO:40.720756;-74.000761
LOCATION:Rotorua\, New Zealand
END:VEVENT
END:VCALENDAR
