BEGIN:VCALENDAR
VERSION:2.0
PRODID:-//Squarespace Inc/Squarespace 6//v6//EN
BEGIN:VEVENT
UID:58b78274e3df28761dd0c8ce@squarespace.com
DTSTAMP:20170302T032038Z
DTSTART:20170309T181500Z
DTEND:20170312T051500Z
SUMMARY:NZ Enduro
END:VEVENT
END:VCALENDAR
