BEGIN:VCALENDAR
VERSION:2.0
PRODID:-//Squarespace Inc/Squarespace 6//v6//EN
BEGIN:VEVENT
UID:57744a3637c5815ec4aa2387@squarespace.com
DTSTAMP:20170124T021756Z
DTSTART:20170203T181500Z
DTEND:20170205T081500Z
SUMMARY:Dodzy Memorial Enduro
GEO:-41.453794;173.083401
LOCATION:Wairoa Valley\, Nelson\, 7091\, New Zealand
END:VEVENT
END:VCALENDAR
