BEGIN:VCALENDAR
VERSION:2.0
PRODID:-//Squarespace Inc/Squarespace 6//v6//EN
BEGIN:VEVENT
UID:57bf68fcff7c50b7ffba10e3@squarespace.com
DTSTAMP:20160918T212003Z
DTSTART:20160919T061500Z
DTEND:20160919T081500Z
SUMMARY:Racing the Tour Divide: stories from the trail
GEO:-41.273318;173.287163
LOCATION:Freehouse\, 95 Collingwood Street\, Nelson\, Nelson\, 7010\, New Z
 ealand
END:VEVENT
END:VCALENDAR
