BEGIN:VCALENDAR
VERSION:2.0
PRODID:-//Squarespace Inc/Squarespace 6//v6//EN
BEGIN:VEVENT
UID:57bb7f03b8a79ba1eaeb6a55@squarespace.com
DTSTAMP:20160822T231403Z
DTSTART:20160823T044500Z
DTEND:20160823T061500Z
SUMMARY:Woman's Bike Tech Night
GEO:-41.27731;173.280738
LOCATION:Torpedo7\, Rutherford Street\, Nelson\, Nelson\, 7010\, New Zealan
 d
END:VEVENT
END:VCALENDAR
