BEGIN:VCALENDAR
VERSION:2.0
PRODID:-//Squarespace Inc/Squarespace 6//v6//EN
BEGIN:VEVENT
UID:57bb84ec46c3c446f9e86b3e@squarespace.com
DTSTAMP:20160822T231753Z
DTSTART:20160824T044500Z
DTEND:20160824T061500Z
SUMMARY:Woman's Bike Tech Night
GEO:-41.27731;173.280738
LOCATION:Torpedo7\, Rutherford Street\, Nelson\, Nelson\, 7010\, New Zealan
 d
END:VEVENT
END:VCALENDAR
