BEGIN:VCALENDAR
VERSION:2.0
PRODID:-//Squarespace Inc/Squarespace 6//v6//EN
BEGIN:VEVENT
UID:57744954f7e0ab3f3c511478@squarespace.com
DTSTAMP:20160713T215518Z
DTSTART:20160609T183000Z
DTEND:20160609T193000Z
SUMMARY:Demo Day - Woodhill MTB Park
END:VEVENT
END:VCALENDAR
