BEGIN:VCALENDAR
VERSION:2.0
PRODID:-//Squarespace Inc/Squarespace 6//v6//EN
BEGIN:VEVENT
UID:5786b42b37c5815338879f55@squarespace.com
DTSTAMP:20160713T214842Z
DTSTART:20160521T163000Z
DTEND:20160521T203000Z
SUMMARY:SHRED LIKE A GIRL 'SUPER V'
END:VEVENT
END:VCALENDAR
