BEGIN:VCALENDAR
VERSION:2.0
PRODID:-//Squarespace Inc/Squarespace 6//v6//EN
BEGIN:VEVENT
UID:57bbc14529687fe2a5635bf6@squarespace.com
DTSTAMP:20160918T212401Z
DTSTART:20161028T191500Z
DTEND:20161029T021500Z
SUMMARY:Demo Day - Wellington
GEO:-41.297883;174.760933
LOCATION:Polhill Reserve\, Wellington
END:VEVENT
END:VCALENDAR
